BEGIN:VCALENDAR
VERSION:2.0
PRODID:-//debipryde - ECPv6.15.3//NONSGML v1.0//EN
CALSCALE:GREGORIAN
METHOD:PUBLISH
X-WR-CALNAME:debipryde
X-ORIGINAL-URL:https://debipryde.com
X-WR-CALDESC:Events for debipryde
REFRESH-INTERVAL;VALUE=DURATION:PT1H
X-Robots-Tag:noindex
X-PUBLISHED-TTL:PT1H
BEGIN:VTIMEZONE
TZID:UTC
BEGIN:STANDARD
TZOFFSETFROM:+0000
TZOFFSETTO:+0000
TZNAME:UTC
DTSTART:20230101T000000
END:STANDARD
END:VTIMEZONE
BEGIN:VEVENT
DTSTART;VALUE=DATE:20230228
DTEND;VALUE=DATE:20230303
DTSTAMP:20260425T194743
CREATED:20220609T030701Z
LAST-MODIFIED:20220611T024026Z
UID:5679-1677542400-1677801599@debipryde.com
SUMMARY:Women Counseling Women - Specifics 1
DESCRIPTION:
URL:https://debipryde.com/event/women-counseling-women-specifics-1-6/
LOCATION:The Anchorage Camp\, 412 Lakeshore Dr\, Lake Waccamaw\, NC\, 28450
ORGANIZER;CN="Jeannie Ulrich":MAILTO:info@anchoragecamp.org
END:VEVENT
BEGIN:VEVENT
DTSTART;VALUE=DATE:20230307
DTEND;VALUE=DATE:20230311
DTSTAMP:20260425T194743
CREATED:20220609T030001Z
LAST-MODIFIED:20220609T030001Z
UID:5672-1678147200-1678492799@debipryde.com
SUMMARY:Giving Teens Hope Conference
DESCRIPTION:
URL:https://debipryde.com/event/giving-teens-hope-conference/
LOCATION:The Wilds Christian Camp\, 1000 Wilds Ridge Road\, Brevard\, NC\, 28712
ORGANIZER;CN="Willie Partin":MAILTO:willie.partin@wilds.org
END:VEVENT
BEGIN:VEVENT
DTSTART;VALUE=DATE:20230311
DTEND;VALUE=DATE:20230313
DTSTAMP:20260425T194743
CREATED:20220405T210925Z
LAST-MODIFIED:20220405T210925Z
UID:5658-1678492800-1678665599@debipryde.com
SUMMARY:Ladies Conference and Sunday School
DESCRIPTION:
URL:https://debipryde.com/event/ladies-conference-and-sunday-school-2/
LOCATION:Old Suwanee Baptist Church\, 4118 Old Suwanee Rd.\, Buford\, GA\, 30518
ORGANIZER;CN="Sandra Campbell":MAILTO:sandralcampbell58@gmail.com
END:VEVENT
BEGIN:VEVENT
DTSTART;VALUE=DATE:20230327
DTEND;VALUE=DATE:20230331
DTSTAMP:20260425T194743
CREATED:20220111T174050Z
LAST-MODIFIED:20230208T001716Z
UID:5596-1679875200-1680220799@debipryde.com
SUMMARY:Women Counseling Women - Specifics 2 - via Zoom
DESCRIPTION:
URL:https://debipryde.com/event/women-counseling-women-specifics-2-via-zoom/
LOCATION:Heart for Europe
ORGANIZER;CN="Sherri Notz":MAILTO:sherrinotz@gmail.com
END:VEVENT
END:VCALENDAR