BEGIN:VCALENDAR
VERSION:2.0
PRODID:-//debipryde - ECPv6.15.3//NONSGML v1.0//EN
CALSCALE:GREGORIAN
METHOD:PUBLISH
X-WR-CALNAME:debipryde
X-ORIGINAL-URL:https://debipryde.com
X-WR-CALDESC:Events for debipryde
REFRESH-INTERVAL;VALUE=DURATION:PT1H
X-Robots-Tag:noindex
X-PUBLISHED-TTL:PT1H
BEGIN:VTIMEZONE
TZID:UTC
BEGIN:STANDARD
TZOFFSETFROM:+0000
TZOFFSETTO:+0000
TZNAME:UTC
DTSTART:20190101T000000
END:STANDARD
END:VTIMEZONE
BEGIN:VEVENT
DTSTART;VALUE=DATE:20200918
DTEND;VALUE=DATE:20200919
DTSTAMP:20260423T230729
CREATED:20200825T224052Z
LAST-MODIFIED:20200825T224052Z
UID:5340-1600387200-1600473599@debipryde.com
SUMMARY:Ladies' Ministry Class
DESCRIPTION:
URL:https://debipryde.com/event/ladies-ministry-class/
LOCATION:Pacific Baptist College\, 2600 N. White Ave.\, La Verne\, CA\, 91750
END:VEVENT
BEGIN:VEVENT
DTSTART;VALUE=DATE:20200916
DTEND;VALUE=DATE:20200919
DTSTAMP:20260423T230729
CREATED:20190725T033717Z
LAST-MODIFIED:20200802T054835Z
UID:2517-1600214400-1600473599@debipryde.com
SUMMARY:Women Counseling Women - Specifics 3 (Postponed - September 15-17\, 2021)
DESCRIPTION:
URL:https://debipryde.com/event/women-counseling-women-specifics-3-4/
LOCATION:Northland Bible Camp\, W10085 Pike Plains Rd.\,\, Dunbar\, WI\, 54119
END:VEVENT
BEGIN:VEVENT
DTSTART;VALUE=DATE:20200914
DTEND;VALUE=DATE:20200917
DTSTAMP:20260423T230729
CREATED:20190725T033414Z
LAST-MODIFIED:20200802T054618Z
UID:2515-1600041600-1600300799@debipryde.com
SUMMARY:Women Counseling Women - Basics (Postponed - September 13-15\, 2021)
DESCRIPTION:
URL:https://debipryde.com/event/women-counseling-women-basics-4/
LOCATION:Northland Bible Camp\, W10085 Pike Plains Rd.\,\, Dunbar\, WI\, 54119
END:VEVENT
BEGIN:VEVENT
DTSTART;VALUE=DATE:20200911
DTEND;VALUE=DATE:20200913
DTSTAMP:20260423T230729
CREATED:20190820T015759Z
LAST-MODIFIED:20190820T235614Z
UID:3807-1599782400-1599955199@debipryde.com
SUMMARY:Ladies' Retreat
DESCRIPTION:
URL:https://debipryde.com/event/ladies-retreat-8/
LOCATION:Hoosier Hills Baptist Camp\, 2499 S. County Rd. 675E.\,\, Dillsboro\, IN
END:VEVENT
BEGIN:VEVENT
DTSTART;VALUE=DATE:20200902
DTEND;VALUE=DATE:20200905
DTSTAMP:20260423T230729
CREATED:20190725T030732Z
LAST-MODIFIED:20200805T071843Z
UID:2495-1599004800-1599263999@debipryde.com
SUMMARY:Women Counseling Women - Specifics 3  (At camp and also on Zoom)
DESCRIPTION:
URL:https://debipryde.com/event/women-counseling-women-specifics-3-2/
LOCATION:Camp CoBeAc\, 4925 S. Reserve Rd.\, Prudenville\, MI\, 48651\, United States
END:VEVENT
BEGIN:VEVENT
DTSTART;VALUE=DATE:20200831
DTEND;VALUE=DATE:20200903
DTSTAMP:20260423T230729
CREATED:20190725T030543Z
LAST-MODIFIED:20200805T071804Z
UID:2493-1598832000-1599091199@debipryde.com
SUMMARY:Women Counseling Women - Basics  (At camp and also on Zoom)
DESCRIPTION:
URL:https://debipryde.com/event/women-counseling-women-basics-3/
LOCATION:Camp CoBeAc\, 4925 S. Reserve Rd.\, Prudenville\, MI\, 48651\, United States
END:VEVENT
BEGIN:VEVENT
DTSTART;VALUE=DATE:20200609
DTEND;VALUE=DATE:20200612
DTSTAMP:20260423T230729
CREATED:20190725T032723Z
LAST-MODIFIED:20200712T045722Z
UID:2509-1591660800-1591919999@debipryde.com
SUMMARY:Women Counseling Women - Specifics 3 (Postponed - June 15-17\, 2021)
DESCRIPTION:
URL:https://debipryde.com/event/women-counseling-women-specifics-3-3/
LOCATION:Central Bible Baptist Church\,\, Massena\, NY
ORGANIZER;CN="Linnet Ryman":MAILTO:doright.fighton@gmail.com
END:VEVENT
BEGIN:VEVENT
DTSTART;TZID=UTC:20200530T150000
DTEND;TZID=UTC:20200530T173000
DTSTAMP:20260423T230729
CREATED:20190828T011300Z
LAST-MODIFIED:20200325T005935Z
UID:4256-1590850800-1590859800@debipryde.com
SUMMARY:Ladies' Tea (Postponed-Date TBD)
DESCRIPTION:
URL:https://debipryde.com/event/ladies-tea/
LOCATION:Lighthouse Baptist Church\, 2600 North White Avenue\,\, LaVerne\, California\, 91750
ORGANIZER;CN="Kelli Starman":MAILTO:kjstarman@gmail.com
END:VEVENT
BEGIN:VEVENT
DTSTART;VALUE=DATE:20200509
DTEND;VALUE=DATE:20200510
DTSTAMP:20260423T230729
CREATED:20200309T210400Z
LAST-MODIFIED:20200415T010853Z
UID:4829-1588982400-1589068799@debipryde.com
SUMMARY:Abuse Seminar (Postponed - Date TBD)
DESCRIPTION:
URL:https://debipryde.com/event/abuse-seminar/
LOCATION:Acton Faith Bible Church\, 32643 Gemway\, Acton\, CA\, 93510
ORGANIZER;CN="Jenny Russell":MAILTO:jrussellacton@gmail.com
END:VEVENT
BEGIN:VEVENT
DTSTART;VALUE=DATE:20200502
DTEND;VALUE=DATE:20200504
DTSTAMP:20260423T230729
CREATED:20190725T032344Z
LAST-MODIFIED:20200327T050913Z
UID:2505-1588377600-1588550399@debipryde.com
SUMMARY:Ladies' Banquet and Sunday School Class (Postponed-Tentative Dates May 1-2\, 2021)
DESCRIPTION:
URL:https://debipryde.com/event/liberty-baptist-church-ladies-banquet-and-sunday-school-class/
LOCATION:Liberty Baptist Church\, 4249 Bahia Vista St.\, Sarasota\, FL\, 34232
ORGANIZER;CN="Jackie Lobdell":MAILTO:office@lbcsarasota.com
END:VEVENT
BEGIN:VEVENT
DTSTART;VALUE=DATE:20200424
DTEND;VALUE=DATE:20200426
DTSTAMP:20260423T230729
CREATED:20190725T031548Z
LAST-MODIFIED:20200327T050843Z
UID:2501-1587686400-1587859199@debipryde.com
SUMMARY:Ladies' Retreat (Postponed-Tentative Date April 9-10\, 2021)
DESCRIPTION:
URL:https://debipryde.com/event/ladies-retreat-6/
LOCATION:Tri-State Bible Camp\, 2 River Rd.\, Montague Township\, NJ\, 07827
ORGANIZER;CN="Pam Coulton":MAILTO:rcoulton@cleaninter.net
END:VEVENT
BEGIN:VEVENT
DTSTART;VALUE=DATE:20200417
DTEND;VALUE=DATE:20200419
DTSTAMP:20260423T230729
CREATED:20190725T031111Z
LAST-MODIFIED:20200327T050735Z
UID:2497-1587081600-1587254399@debipryde.com
SUMMARY:Ladies' Retreat (Postponed-Rescheduled to April 23-24\, 2021)
DESCRIPTION:
URL:https://debipryde.com/event/ladies-retreat-5/
LOCATION:Pennwood Bible Camp\, 10 Old Rte. 6\, Ulysses\, PA\, 16948
ORGANIZER;CN="Alyson Brooks":MAILTO:abrooks@vitalityforlife.com
END:VEVENT
BEGIN:VEVENT
DTSTART;VALUE=DATE:20200408
DTEND;VALUE=DATE:20200411
DTSTAMP:20260423T230729
CREATED:20200325T005825Z
LAST-MODIFIED:20200327T050556Z
UID:4870-1586304000-1586563199@debipryde.com
SUMMARY:Women Counseling Counseling - Specifics 3 (Postponed-Rescheduled to September 2-4\, 2021)
DESCRIPTION:
URL:https://debipryde.com/event/women-counseling-counseling-specifics-3-postponed-rescheduled-to-9-2-4-2021/
LOCATION:Camp CoBeAc\, 4925 S. Reserve Rd.\, Prudenville\, MI\, 48651\, United States
END:VEVENT
BEGIN:VEVENT
DTSTART;VALUE=DATE:20200406
DTEND;VALUE=DATE:20200409
DTSTAMP:20260423T230729
CREATED:20200325T005654Z
LAST-MODIFIED:20200327T050455Z
UID:4868-1586131200-1586390399@debipryde.com
SUMMARY:Women Counseling Counseling - Basics (Postponed-Rescheduled to August 31-September 2\, 2021)
DESCRIPTION:
URL:https://debipryde.com/event/women-counseling-counseling-basics-postponed-rescheduled-to-8-31-9-2-2021/
LOCATION:Camp CoBeAc\, 4925 S. Reserve Rd.\, Prudenville\, MI\, 48651\, United States
END:VEVENT
BEGIN:VEVENT
DTSTART;VALUE=DATE:20200120
DTEND;VALUE=DATE:20200123
DTSTAMP:20260423T230729
CREATED:20190725T030038Z
LAST-MODIFIED:20190821T232811Z
UID:2487-1579478400-1579737599@debipryde.com
SUMMARY:Women Counseling Women - Specifics 2
DESCRIPTION:
URL:https://debipryde.com/event/women-counseling-women-specifics-2-2/
LOCATION:Ironwood Christian Camp\, 49191 Cherokee Rd.\, Newberry Springs\, CA\, 92365\, United States
END:VEVENT
BEGIN:VEVENT
DTSTART;VALUE=DATE:20200117
DTEND;VALUE=DATE:20200119
DTSTAMP:20260423T230729
CREATED:20190725T025902Z
LAST-MODIFIED:20190820T020108Z
UID:2484-1579219200-1579391999@debipryde.com
SUMMARY:Ladies' Retreat
DESCRIPTION:
URL:https://debipryde.com/event/ladies-retreat-4/
LOCATION:The Anchorage Camp\, 412 Lakeshore Dr\, Lake Waccamaw\, NC\, 28450
ORGANIZER;CN="Jeannie Ulrich":MAILTO:info@anchoragecamp.org
END:VEVENT
BEGIN:VEVENT
DTSTART;VALUE=DATE:20191118
DTEND;VALUE=DATE:20191122
DTSTAMP:20260423T230729
CREATED:20190725T024819Z
LAST-MODIFIED:20190725T024819Z
UID:2480-1574035200-1574380799@debipryde.com
SUMMARY:Women Counseling Women - Basics
DESCRIPTION:
URL:https://debipryde.com/event/women-counseling-women-basics-2/
LOCATION:Ironwood Christian Camp\, 49191 Cherokee Rd.\, Newberry Springs\, CA\, 92365\, United States
END:VEVENT
BEGIN:VEVENT
DTSTART;VALUE=DATE:20191102
DTEND;VALUE=DATE:20191103
DTSTAMP:20260423T230729
CREATED:20190821T232513Z
LAST-MODIFIED:20190821T232637Z
UID:3989-1572652800-1572739199@debipryde.com
SUMMARY:Ladies' Conference
DESCRIPTION:
URL:https://debipryde.com/event/ladies-conference-2/
LOCATION:Heritage Baptist Church\, 161 S. Whittlesey Ave.\,\, Wallingford\, CT\, 06492
END:VEVENT
BEGIN:VEVENT
DTSTART;VALUE=DATE:20191029
DTEND;VALUE=DATE:20191101
DTSTAMP:20260423T230729
CREATED:20190725T024515Z
LAST-MODIFIED:20190725T024515Z
UID:2476-1572307200-1572566399@debipryde.com
SUMMARY:Women Counseling Women - Specifics 3
DESCRIPTION:
URL:https://debipryde.com/event/women-counseling-women-specifics-3/
LOCATION:Mt. Zion Baptist Church\, 3 Denver Rd.\, Denver\, PA\, 17517\, United States
ORGANIZER;CN="Karen Sweitzer":MAILTO:karensue@ptd.net
END:VEVENT
BEGIN:VEVENT
DTSTART;VALUE=DATE:20191011
DTEND;VALUE=DATE:20191013
DTSTAMP:20260423T230729
CREATED:20190725T024117Z
LAST-MODIFIED:20190820T221256Z
UID:2469-1570752000-1570924799@debipryde.com
SUMMARY:Ladies' Retreat
DESCRIPTION:
URL:https://debipryde.com/event/ladies-retreat-3/
LOCATION:Camp CoBeAc\, 4925 S. Reserve Rd.\, Prudenville\, MI\, 48651\, United States
END:VEVENT
BEGIN:VEVENT
DTSTART;VALUE=DATE:20191005
DTEND;VALUE=DATE:20191006
DTSTAMP:20260423T230729
CREATED:20190725T023723Z
LAST-MODIFIED:20190829T224512Z
UID:2470-1570233600-1570319999@debipryde.com
SUMMARY:Ladies' Retreat
DESCRIPTION:
URL:https://debipryde.com/event/ladies-retreat-9/
LOCATION:Host: First Baptist Church of Lake Orion\, MI                         Venue: Bavarian Inn\, Frankenmuth\,MI\, 1 Covered Bridge Lane\, Frankenmuth\, MI\, 48734
ORGANIZER;CN="Debbie Moreno":MAILTO:dsmoreno@sbcglobal.net
END:VEVENT
BEGIN:VEVENT
DTSTART;VALUE=DATE:20190927
DTEND;VALUE=DATE:20190929
DTSTAMP:20260423T230729
CREATED:20190724T034424Z
LAST-MODIFIED:20190820T020141Z
UID:2455-1569542400-1569715199@debipryde.com
SUMMARY:Ladies' Retreat
DESCRIPTION:
URL:https://debipryde.com/event/ladies-retreat-2/
LOCATION:Bible Baptist Church\,\, Plattsburgh\, NY
ORGANIZER;CN="Laura Green":MAILTO:laurargreen@hotmail.com
END:VEVENT
BEGIN:VEVENT
DTSTART;VALUE=DATE:20190920
DTEND;VALUE=DATE:20190922
DTSTAMP:20260423T230729
CREATED:20190724T034150Z
LAST-MODIFIED:20190724T034150Z
UID:2452-1568937600-1569110399@debipryde.com
SUMMARY:Anchorage Camp Ladies Retreat
DESCRIPTION:
URL:https://debipryde.com/event/anchorage-camp-ladies-retreat/
LOCATION:The Anchorage Camp\, 412 Lakeshore Dr\, Lake Waccamaw\, NC\, 28450
END:VEVENT
BEGIN:VEVENT
DTSTART;VALUE=DATE:20190912
DTEND;VALUE=DATE:20190915
DTSTAMP:20260423T230729
CREATED:20190724T033806Z
LAST-MODIFIED:20190724T033806Z
UID:2450-1568246400-1568505599@debipryde.com
SUMMARY:Women Counseling Women - Specifics 2
DESCRIPTION:
URL:https://debipryde.com/event/women-counseling-women-specifics-2/
LOCATION:Northland Bible Camp\, W10085 Pike Plains Rd.\,\, Dunbar\, WI\, 54119
END:VEVENT
BEGIN:VEVENT
DTSTART;VALUE=DATE:20190909
DTEND;VALUE=DATE:20190913
DTSTAMP:20260423T230729
CREATED:20190724T033603Z
LAST-MODIFIED:20190724T033603Z
UID:2447-1567987200-1568332799@debipryde.com
SUMMARY:Women Counseling Women - Basics
DESCRIPTION:
URL:https://debipryde.com/event/women-counseling-women-basics/
LOCATION:Northland Bible Camp\, W10085 Pike Plains Rd.\,\, Dunbar\, WI\, 54119
END:VEVENT
BEGIN:VEVENT
DTSTART;VALUE=DATE:20190906
DTEND;VALUE=DATE:20190908
DTSTAMP:20260423T230729
CREATED:20190724T033203Z
LAST-MODIFIED:20190821T232657Z
UID:2443-1567728000-1567900799@debipryde.com
SUMMARY:Ladies' Retreat
DESCRIPTION:
URL:https://debipryde.com/event/ladies-retreat/
LOCATION:Park Meadows Baptist Church\,\, Lincoln\, IL
ORGANIZER;CN="Kelli Campbell":MAILTO:kerbykelli@icloud.com
END:VEVENT
BEGIN:VEVENT
DTSTART;VALUE=DATE:20190824
DTEND;VALUE=DATE:20190825
DTSTAMP:20260423T230729
CREATED:20190724T032827Z
LAST-MODIFIED:20190823T201354Z
UID:2439-1566604800-1566691199@debipryde.com
SUMMARY:Ladies' Coffee and Tea
DESCRIPTION:
URL:https://debipryde.com/event/ladies-coffee-and-tea/
LOCATION:Cornerstone Baptist Church\, 131 E. Fig St.\, #1\, Fallbrook\, CA\, 92028\, United States
ORGANIZER;CN="Angie Christensen":MAILTO:angie@cornerstonefallbrook.org
END:VEVENT
BEGIN:VEVENT
DTSTART;VALUE=DATE:20190715
DTEND;VALUE=DATE:20190718
DTSTAMP:20260423T230729
CREATED:20190619T171355Z
LAST-MODIFIED:20190829T183958Z
UID:621-1563148800-1563407999@debipryde.com
SUMMARY:FBMI Missions University Conference
DESCRIPTION:
URL:https://debipryde.com/event/fbmi-missions-university-conference/
LOCATION:First Baptist Church\,\, Hammond\, IN
ORGANIZER;CN="Dr. Mark Bosje":MAILTO:mark.bosje@fbmi.org
END:VEVENT
END:VCALENDAR