BEGIN:VCALENDAR
VERSION:2.0
PRODID:-//debipryde - ECPv6.15.3//NONSGML v1.0//EN
CALSCALE:GREGORIAN
METHOD:PUBLISH
X-ORIGINAL-URL:https://debipryde.com
X-WR-CALDESC:Events for debipryde
REFRESH-INTERVAL;VALUE=DURATION:PT1H
X-Robots-Tag:noindex
X-PUBLISHED-TTL:PT1H
BEGIN:VTIMEZONE
TZID:UTC
BEGIN:STANDARD
TZOFFSETFROM:+0000
TZOFFSETTO:+0000
TZNAME:UTC
DTSTART:20260101T000000
END:STANDARD
END:VTIMEZONE
BEGIN:VEVENT
DTSTART;VALUE=DATE:20260330
DTEND;VALUE=DATE:20260403
DTSTAMP:20260423T202814
CREATED:20240411T141032Z
LAST-MODIFIED:20250509T002704Z
UID:5767-1774828800-1775174399@debipryde.com
SUMMARY:Women Counseling Women - Specifics 4 (also via Zoom)
DESCRIPTION:
URL:https://debipryde.com/event/women-counseling-women-specifics-4-also-via-zoom-2/
LOCATION:The Anchorage Camp\, 412 Lakeshore Dr\, Lake Waccamaw\, NC\, 28450
ORGANIZER;CN="Jeannie Ulrich":MAILTO:info@anchoragecamp.org
END:VEVENT
BEGIN:VEVENT
DTSTART;VALUE=DATE:20260405
DTEND;VALUE=DATE:20260406
DTSTAMP:20260423T202814
CREATED:20210316T215205Z
LAST-MODIFIED:20210316T215205Z
UID:5475-1775347200-1775433599@debipryde.com
SUMMARY:Easter Sunday
DESCRIPTION:
URL:https://debipryde.com/event/easter-sunday-6/
LOCATION:NC
END:VEVENT
BEGIN:VEVENT
DTSTART;VALUE=DATE:20260420
DTEND;VALUE=DATE:20260424
DTSTAMP:20260423T202814
CREATED:20230718T210034Z
LAST-MODIFIED:20250926T234935Z
UID:5730-1776643200-1776988799@debipryde.com
SUMMARY:Women Counseling Women - Basics (also via Zoom)
DESCRIPTION:
URL:https://debipryde.com/event/women-counseling-women-basics-also-via-zoom/
LOCATION:Camp CoBeAc\, 4925 S. Reserve Rd.\, Prudenville\, MI\, 48651\, United States
END:VEVENT
BEGIN:VEVENT
DTSTART;VALUE=DATE:20261005
DTEND;VALUE=DATE:20261009
DTSTAMP:20260423T202814
CREATED:20230714T045713Z
LAST-MODIFIED:20230714T045713Z
UID:5726-1791158400-1791503999@debipryde.com
SUMMARY:Women Counseling Women - Specifics 2 (also via Zoom)
DESCRIPTION:
URL:https://debipryde.com/event/women-counseling-women-specifics-2-also-via-zoom/
LOCATION:Camp CoBeAc\, 4925 S. Reserve Rd.\, Prudenville\, MI\, 48651\, United States
END:VEVENT
BEGIN:VEVENT
DTSTART;VALUE=DATE:20261116
DTEND;VALUE=DATE:20261120
DTSTAMP:20260423T202814
CREATED:20240217T205819Z
LAST-MODIFIED:20240217T205819Z
UID:5755-1794787200-1795132799@debipryde.com
SUMMARY:Women Counseling Women - Basics
DESCRIPTION:
URL:https://debipryde.com/event/women-counseling-women-basics-19/
LOCATION:Ironwood Christian Camp\, 49191 Cherokee Rd.\, Newberry Springs\, CA\, 92365\, United States
END:VEVENT
END:VCALENDAR