BEGIN:VCALENDAR
VERSION:2.0
PRODID:-//debipryde - ECPv6.15.3//NONSGML v1.0//EN
CALSCALE:GREGORIAN
METHOD:PUBLISH
X-WR-CALNAME:debipryde
X-ORIGINAL-URL:https://debipryde.com
X-WR-CALDESC:Events for debipryde
REFRESH-INTERVAL;VALUE=DURATION:PT1H
X-Robots-Tag:noindex
X-PUBLISHED-TTL:PT1H
BEGIN:VTIMEZONE
TZID:UTC
BEGIN:STANDARD
TZOFFSETFROM:+0000
TZOFFSETTO:+0000
TZNAME:UTC
DTSTART:20220101T000000
END:STANDARD
END:VTIMEZONE
BEGIN:VEVENT
DTSTART;VALUE=DATE:20240408
DTEND;VALUE=DATE:20240412
DTSTAMP:20260425T112158
CREATED:20230115T021358Z
LAST-MODIFIED:20230718T210213Z
UID:5690-1712534400-1712879999@debipryde.com
SUMMARY:Women Counseling Women - Basics (also via Zoom)
DESCRIPTION:
URL:https://debipryde.com/event/women-counseling-women-basics-also-viz-zoom/
LOCATION:Camp CoBeAc\, 4925 S. Reserve Rd.\, Prudenville\, MI\, 48651\, United States
END:VEVENT
BEGIN:VEVENT
DTSTART;VALUE=DATE:20240402
DTEND;VALUE=DATE:20240406
DTSTAMP:20260425T112158
CREATED:20230519T173538Z
LAST-MODIFIED:20230519T173538Z
UID:5703-1712016000-1712361599@debipryde.com
SUMMARY:Women Counseling Women - Specifics 3
DESCRIPTION:
URL:https://debipryde.com/event/women-counseling-women-specifics-3-9/
LOCATION:Heart for Europe\, Germany
ORGANIZER;CN="Sherri Notz":MAILTO:sherrinotz@gmail.com
END:VEVENT
BEGIN:VEVENT
DTSTART;VALUE=DATE:20240331
DTEND;VALUE=DATE:20240401
DTSTAMP:20260425T112158
CREATED:20210316T213057Z
LAST-MODIFIED:20220723T062837Z
UID:5471-1711843200-1711929599@debipryde.com
SUMMARY:Easter Sunday
DESCRIPTION:
URL:https://debipryde.com/event/easter-sunday-4/
LOCATION:NC
END:VEVENT
BEGIN:VEVENT
DTSTART;VALUE=DATE:20240321
DTEND;VALUE=DATE:20240322
DTSTAMP:20260425T112158
CREATED:20231221T180238Z
LAST-MODIFIED:20231221T180238Z
UID:5734-1710979200-1711065599@debipryde.com
SUMMARY:Competent to Counsel Conference
DESCRIPTION:
URL:https://debipryde.com/event/competent-to-counsel-conference-3/
LOCATION:Valley Forge Baptist Temple\, 616 S. Trappe Rd.\, Collegeville\, PA\, 19426
ORGANIZER;CN="Pastor Lamar Eifert":MAILTO:leifert@vfbt.org
END:VEVENT
BEGIN:VEVENT
DTSTART;VALUE=DATE:20240304
DTEND;VALUE=DATE:20240308
DTSTAMP:20260425T112158
CREATED:20220609T030842Z
LAST-MODIFIED:20230704T215129Z
UID:5681-1709510400-1709855999@debipryde.com
SUMMARY:Women Counseling Women - Specifics 2
DESCRIPTION:
URL:https://debipryde.com/event/women-counseling-women-specifics-2-5/
LOCATION:The Anchorage Camp\, 412 Lakeshore Dr\, Lake Waccamaw\, NC\, 28450
ORGANIZER;CN="Jeannie Ulrich":MAILTO:info@anchoragecamp.org
END:VEVENT
BEGIN:VEVENT
DTSTART;VALUE=DATE:20240301
DTEND;VALUE=DATE:20240303
DTSTAMP:20260425T112158
CREATED:20231221T180510Z
LAST-MODIFIED:20231229T054129Z
UID:5736-1709251200-1709423999@debipryde.com
SUMMARY:Lighthouse Baptist Church Ladies' Retreat
DESCRIPTION:
URL:https://debipryde.com/event/lighthouse-baptist-church-ladies-retreat/
LOCATION:Ironwood Christian Camp\, 49191 Cherokee Rd.\, Newberry Springs\, CA\, 92365\, United States
END:VEVENT
BEGIN:VEVENT
DTSTART;VALUE=DATE:20240122
DTEND;VALUE=DATE:20240125
DTSTAMP:20260425T112158
CREATED:20220205T232541Z
LAST-MODIFIED:20220205T232541Z
UID:5633-1705881600-1706140799@debipryde.com
SUMMARY:Women Counseling Women - Specifics 1
DESCRIPTION:
URL:https://debipryde.com/event/women-counseling-women-specifics-1-4/
LOCATION:Ironwood Christian Camp\, 49191 Cherokee Rd.\, Newberry Springs\, CA\, 92365\, United States
END:VEVENT
BEGIN:VEVENT
DTSTART;VALUE=DATE:20231113
DTEND;VALUE=DATE:20231117
DTSTAMP:20260425T112158
CREATED:20190728T010906Z
LAST-MODIFIED:20190818T025847Z
UID:2595-1699833600-1700179199@debipryde.com
SUMMARY:Women Counseling Women - Basics
DESCRIPTION:
URL:https://debipryde.com/event/women-counseling-women-basics-11/
LOCATION:Ironwood Christian Camp\, 49191 Cherokee Rd.\, Newberry Springs\, CA\, 92365\, United States
END:VEVENT
BEGIN:VEVENT
DTSTART;VALUE=DATE:20231102
DTEND;VALUE=DATE:20231105
DTSTAMP:20260425T112158
CREATED:20230115T022334Z
LAST-MODIFIED:20230115T022334Z
UID:5697-1698883200-1699142399@debipryde.com
SUMMARY:Loving and Leading Conference
DESCRIPTION:
URL:https://debipryde.com/event/loving-and-leading-conference-3/
LOCATION:First Baptist Church of Milford\, 1367 Woodville Pike\, Milford\, OH\, 45150\, United States
ORGANIZER;CN="David Williamson":MAILTO:dwilliamson@bswe.org
END:VEVENT
BEGIN:VEVENT
DTSTART;VALUE=DATE:20231024
DTEND;VALUE=DATE:20231027
DTSTAMP:20260425T112158
CREATED:20191211T023837Z
LAST-MODIFIED:20220308T015835Z
UID:4672-1698105600-1698364799@debipryde.com
SUMMARY:Women Counseling Women - Specifics 2 (also via Zoom)
DESCRIPTION:
URL:https://debipryde.com/event/women-counseling-women-specifics-2-3/
LOCATION:Mt. Zion Baptist Church\, 3 Denver Rd.\, Denver\, PA\, 17517\, United States
ORGANIZER;CN="Karen Sweitzer":MAILTO:karensue@ptd.net
END:VEVENT
BEGIN:VEVENT
DTSTART;VALUE=DATE:20231009
DTEND;VALUE=DATE:20231013
DTSTAMP:20260425T112158
CREATED:20200203T080856Z
LAST-MODIFIED:20220325T211139Z
UID:4810-1696809600-1697155199@debipryde.com
SUMMARY:Women Counseling Women - Specifics 3 (also via Zoom)
DESCRIPTION:
URL:https://debipryde.com/event/women-counseling-women-specifics-2-4/
LOCATION:Camp CoBeAc\, 4925 S. Reserve Rd.\, Prudenville\, MI\, 48651\, United States
END:VEVENT
BEGIN:VEVENT
DTSTART;VALUE=DATE:20231002
DTEND;VALUE=DATE:20231005
DTSTAMP:20260425T112158
CREATED:20230704T211817Z
LAST-MODIFIED:20230704T211817Z
UID:5714-1696204800-1696463999@debipryde.com
SUMMARY:Ladies' Retreat
DESCRIPTION:
URL:https://debipryde.com/event/ladies-retreat-18/
LOCATION:Cornerstone Baptist Church\, 131 E. Fig St.\, #1\, Fallbrook\, CA\, 92028\, United States
ORGANIZER;CN="Angie Christensen":MAILTO:angie@cornerstonefallbrook.org
END:VEVENT
BEGIN:VEVENT
DTSTART;VALUE=DATE:20230908
DTEND;VALUE=DATE:20230910
DTSTAMP:20260425T112158
CREATED:20201001T064417Z
LAST-MODIFIED:20201001T064417Z
UID:5371-1694131200-1694303999@debipryde.com
SUMMARY:Ladies' Retreat
DESCRIPTION:
URL:https://debipryde.com/event/ladies-retreat-14/
LOCATION:Hoosier Hills Baptist Camp\, 2499 S. County Rd. 675E.\,\, Dillsboro\, IN
END:VEVENT
BEGIN:VEVENT
DTSTART;VALUE=DATE:20230725
DTEND;VALUE=DATE:20230728
DTSTAMP:20260425T112158
CREATED:20230704T211214Z
LAST-MODIFIED:20230704T211214Z
UID:5709-1690243200-1690502399@debipryde.com
SUMMARY:Northeast Vision Summit
DESCRIPTION:
URL:https://debipryde.com/event/northeast-vision-summit/
LOCATION:Solid Rock Baptist Church\, 420 White Horse Pike\, Berlin\, NJ\, 08009\, United States
ORGANIZER;CN="Aprile Clark":MAILTO:aprileclark@aol.com
END:VEVENT
BEGIN:VEVENT
DTSTART;VALUE=DATE:20230414
DTEND;VALUE=DATE:20230416
DTSTAMP:20260425T112158
CREATED:20210316T012748Z
LAST-MODIFIED:20210316T012748Z
UID:5463-1681430400-1681603199@debipryde.com
SUMMARY:Ladies' Retreat
DESCRIPTION:
URL:https://debipryde.com/event/ladies-retreat-16/
LOCATION:Tri-State Bible Camp\, 2 River Rd.\, Montague Township\, NJ\, 07827
ORGANIZER;CN="Pam Coulton":MAILTO:rcoulton@cleaninter.net
END:VEVENT
BEGIN:VEVENT
DTSTART;VALUE=DATE:20230409
DTEND;VALUE=DATE:20230410
DTSTAMP:20260425T112158
CREATED:20210316T212940Z
LAST-MODIFIED:20220723T062608Z
UID:5469-1680998400-1681084799@debipryde.com
SUMMARY:Easter Sunday
DESCRIPTION:
URL:https://debipryde.com/event/easter-sunday-3/
LOCATION:NC
END:VEVENT
BEGIN:VEVENT
DTSTART;VALUE=DATE:20230403
DTEND;VALUE=DATE:20230407
DTSTAMP:20260425T112158
CREATED:20200203T080629Z
LAST-MODIFIED:20220308T015618Z
UID:4808-1680480000-1680825599@debipryde.com
SUMMARY:Women Counseling Women - Basics (also via Zoom)
DESCRIPTION:
URL:https://debipryde.com/event/women-counseling-women-basics-15/
LOCATION:Camp CoBeAc\, 4925 S. Reserve Rd.\, Prudenville\, MI\, 48651\, United States
END:VEVENT
BEGIN:VEVENT
DTSTART;VALUE=DATE:20230327
DTEND;VALUE=DATE:20230331
DTSTAMP:20260425T112158
CREATED:20220111T174050Z
LAST-MODIFIED:20230208T001716Z
UID:5596-1679875200-1680220799@debipryde.com
SUMMARY:Women Counseling Women - Specifics 2 - via Zoom
DESCRIPTION:
URL:https://debipryde.com/event/women-counseling-women-specifics-2-via-zoom/
LOCATION:Heart for Europe
ORGANIZER;CN="Sherri Notz":MAILTO:sherrinotz@gmail.com
END:VEVENT
BEGIN:VEVENT
DTSTART;VALUE=DATE:20230311
DTEND;VALUE=DATE:20230313
DTSTAMP:20260425T112158
CREATED:20220405T210925Z
LAST-MODIFIED:20220405T210925Z
UID:5658-1678492800-1678665599@debipryde.com
SUMMARY:Ladies Conference and Sunday School
DESCRIPTION:
URL:https://debipryde.com/event/ladies-conference-and-sunday-school-2/
LOCATION:Old Suwanee Baptist Church\, 4118 Old Suwanee Rd.\, Buford\, GA\, 30518
ORGANIZER;CN="Sandra Campbell":MAILTO:sandralcampbell58@gmail.com
END:VEVENT
BEGIN:VEVENT
DTSTART;VALUE=DATE:20230307
DTEND;VALUE=DATE:20230311
DTSTAMP:20260425T112158
CREATED:20220609T030001Z
LAST-MODIFIED:20220609T030001Z
UID:5672-1678147200-1678492799@debipryde.com
SUMMARY:Giving Teens Hope Conference
DESCRIPTION:
URL:https://debipryde.com/event/giving-teens-hope-conference/
LOCATION:The Wilds Christian Camp\, 1000 Wilds Ridge Road\, Brevard\, NC\, 28712
ORGANIZER;CN="Willie Partin":MAILTO:willie.partin@wilds.org
END:VEVENT
BEGIN:VEVENT
DTSTART;VALUE=DATE:20230228
DTEND;VALUE=DATE:20230303
DTSTAMP:20260425T112158
CREATED:20220609T030701Z
LAST-MODIFIED:20220611T024026Z
UID:5679-1677542400-1677801599@debipryde.com
SUMMARY:Women Counseling Women - Specifics 1
DESCRIPTION:
URL:https://debipryde.com/event/women-counseling-women-specifics-1-6/
LOCATION:The Anchorage Camp\, 412 Lakeshore Dr\, Lake Waccamaw\, NC\, 28450
ORGANIZER;CN="Jeannie Ulrich":MAILTO:info@anchoragecamp.org
END:VEVENT
BEGIN:VEVENT
DTSTART;VALUE=DATE:20230123
DTEND;VALUE=DATE:20230126
DTSTAMP:20260425T112158
CREATED:20190728T010641Z
LAST-MODIFIED:20220111T173725Z
UID:2593-1674432000-1674691199@debipryde.com
SUMMARY:Women Counseling Women - Specifics 4
DESCRIPTION:
URL:https://debipryde.com/event/women-counseling-women-specifics-1-2/
LOCATION:Ironwood Christian Camp\, 49191 Cherokee Rd.\, Newberry Springs\, CA\, 92365\, United States
END:VEVENT
BEGIN:VEVENT
DTSTART;VALUE=DATE:20221114
DTEND;VALUE=DATE:20221118
DTSTAMP:20260425T112158
CREATED:20190817T110202Z
LAST-MODIFIED:20190819T165016Z
UID:2591-1668384000-1668729599@debipryde.com
SUMMARY:Women Counseling Women - Basics
DESCRIPTION:
URL:https://debipryde.com/event/women-counseling-women-basics-10/
LOCATION:Ironwood Christian Camp\, 49191 Cherokee Rd.\, Newberry Springs\, CA\, 92365\, United States
END:VEVENT
BEGIN:VEVENT
DTSTART;VALUE=DATE:20221103
DTEND;VALUE=DATE:20221106
DTSTAMP:20260425T112158
CREATED:20210108T223838Z
LAST-MODIFIED:20210108T223838Z
UID:5405-1667433600-1667692799@debipryde.com
SUMMARY:Loving and Leading Conference
DESCRIPTION:
URL:https://debipryde.com/event/loving-and-leading-conference-2/
LOCATION:First Baptist Church of Milford\, 1367 Woodville Pike\, Milford\, OH\, 45150\, United States
ORGANIZER;CN="Daniel Jessup":MAILTO:dan.jessup@masterclubs.org
END:VEVENT
BEGIN:VEVENT
DTSTART;VALUE=DATE:20221025
DTEND;VALUE=DATE:20221028
DTSTAMP:20260425T112158
CREATED:20191211T023700Z
LAST-MODIFIED:20220308T015521Z
UID:4670-1666656000-1666915199@debipryde.com
SUMMARY:Women Counseling Women - Specifics 1 (also via Zoom)
DESCRIPTION:
URL:https://debipryde.com/event/women-counseling-women-specifics-1-3/
LOCATION:Mt. Zion Baptist Church\, 3 Denver Rd.\, Denver\, PA\, 17517\, United States
ORGANIZER;CN="Karen Sweitzer":MAILTO:karensue@ptd.net
END:VEVENT
BEGIN:VEVENT
DTSTART;VALUE=DATE:20221022
DTEND;VALUE=DATE:20221023
DTSTAMP:20260425T112158
CREATED:20220203T044429Z
LAST-MODIFIED:20220203T044429Z
UID:5630-1666396800-1666483199@debipryde.com
SUMMARY:Ladies' Conference
DESCRIPTION:
URL:https://debipryde.com/event/ladies-conference-3/
LOCATION:Heritage Baptist Church\, 161 S. Whittlesey Ave.\,\, Wallingford\, CT\, 06492
END:VEVENT
BEGIN:VEVENT
DTSTART;VALUE=DATE:20221010
DTEND;VALUE=DATE:20221014
DTSTAMP:20260425T112158
CREATED:20210511T154325Z
LAST-MODIFIED:20220325T211117Z
UID:5520-1665360000-1665705599@debipryde.com
SUMMARY:Women Counseling Women - Specifics 2 (also via Zoom)
DESCRIPTION:
URL:https://debipryde.com/event/women-counseling-women-specifics-1-5/
LOCATION:Camp CoBeAc\, 4925 S. Reserve Rd.\, Prudenville\, MI\, 48651\, United States
END:VEVENT
BEGIN:VEVENT
DTSTART;VALUE=DATE:20221007
DTEND;VALUE=DATE:20221009
DTSTAMP:20260425T112158
CREATED:20220409T000537Z
LAST-MODIFIED:20220409T000537Z
UID:5662-1665100800-1665273599@debipryde.com
SUMMARY:Ladies' Retreat
DESCRIPTION:
URL:https://debipryde.com/event/ladies-retreat-12/
LOCATION:Camp CoBeAc\, 4925 S. Reserve Rd.\, Prudenville\, MI\, 48651\, United States
END:VEVENT
BEGIN:VEVENT
DTSTART;VALUE=DATE:20220625
DTEND;VALUE=DATE:20220626
DTSTAMP:20260425T112158
CREATED:20210316T215644Z
LAST-MODIFIED:20220203T044216Z
UID:5479-1656115200-1656201599@debipryde.com
SUMMARY:Ladies' Tea
DESCRIPTION:
URL:https://debipryde.com/event/ladies-tea-4/
LOCATION:Lighthouse Baptist Church\, 2600 North White Avenue\,\, LaVerne\, California\, 91750
ORGANIZER;CN="Kelli Starman":MAILTO:kjstarman@gmail.com
END:VEVENT
BEGIN:VEVENT
DTSTART;VALUE=DATE:20220614
DTEND;VALUE=DATE:20220617
DTSTAMP:20260425T112158
CREATED:20210224T205706Z
LAST-MODIFIED:20210518T235653Z
UID:5444-1655164800-1655423999@debipryde.com
SUMMARY:Women Counseling Women - Specifics 3
DESCRIPTION:
URL:https://debipryde.com/event/women-counseling-women-specifics-4-6/
LOCATION:Central Bible Baptist Church\,\, Massena\, NY
ORGANIZER;CN="Linnet Ryman":MAILTO:doright.fighton@gmail.com
END:VEVENT
END:VCALENDAR