BEGIN:VCALENDAR
VERSION:2.0
PRODID:-//debipryde - ECPv6.15.3//NONSGML v1.0//EN
CALSCALE:GREGORIAN
METHOD:PUBLISH
X-WR-CALNAME:debipryde
X-ORIGINAL-URL:https://debipryde.com
X-WR-CALDESC:Events for debipryde
REFRESH-INTERVAL;VALUE=DURATION:PT1H
X-Robots-Tag:noindex
X-PUBLISHED-TTL:PT1H
BEGIN:VTIMEZONE
TZID:UTC
BEGIN:STANDARD
TZOFFSETFROM:+0000
TZOFFSETTO:+0000
TZNAME:UTC
DTSTART:20260101T000000
END:STANDARD
END:VTIMEZONE
BEGIN:VEVENT
DTSTART;VALUE=DATE:20260420
DTEND;VALUE=DATE:20260424
DTSTAMP:20260423T174247
CREATED:20230718T210034Z
LAST-MODIFIED:20250926T234935Z
UID:5730-1776643200-1776988799@debipryde.com
SUMMARY:Women Counseling Women - Basics (also via Zoom)
DESCRIPTION:
URL:https://debipryde.com/event/women-counseling-women-basics-also-via-zoom/
LOCATION:Camp CoBeAc\, 4925 S. Reserve Rd.\, Prudenville\, MI\, 48651\, United States
END:VEVENT
END:VCALENDAR