BEGIN:VCALENDAR
VERSION:2.0
PRODID:-//debipryde - ECPv6.15.3//NONSGML v1.0//EN
CALSCALE:GREGORIAN
METHOD:PUBLISH
X-ORIGINAL-URL:https://debipryde.com
X-WR-CALDESC:Events for debipryde
REFRESH-INTERVAL;VALUE=DURATION:PT1H
X-Robots-Tag:noindex
X-PUBLISHED-TTL:PT1H
BEGIN:VTIMEZONE
TZID:UTC
BEGIN:STANDARD
TZOFFSETFROM:+0000
TZOFFSETTO:+0000
TZNAME:UTC
DTSTART:20250101T000000
END:STANDARD
END:VTIMEZONE
BEGIN:VEVENT
DTSTART;VALUE=DATE:20250506
DTEND;VALUE=DATE:20250510
DTSTAMP:20260424T072443
CREATED:20240805T222006Z
LAST-MODIFIED:20250122T205957Z
UID:5784-1746489600-1746835199@debipryde.com
SUMMARY:Women Counseling Women - Specifics 4 - Heart for Europe (Missionaries only) - Zoom
DESCRIPTION:
URL:https://debipryde.com/event/women-counseling-women-specifics-4-heart-for-europe-missionaries-zoom/
LOCATION:NC
ORGANIZER;CN="Sherri Notz":MAILTO:sherrinotz@gmail.com
END:VEVENT
END:VCALENDAR