BEGIN:VCALENDAR
VERSION:2.0
PRODID:-//debipryde - ECPv6.15.3//NONSGML v1.0//EN
CALSCALE:GREGORIAN
METHOD:PUBLISH
X-WR-CALNAME:debipryde
X-ORIGINAL-URL:https://debipryde.com
X-WR-CALDESC:Events for debipryde
REFRESH-INTERVAL;VALUE=DURATION:PT1H
X-Robots-Tag:noindex
X-PUBLISHED-TTL:PT1H
BEGIN:VTIMEZONE
TZID:UTC
BEGIN:STANDARD
TZOFFSETFROM:+0000
TZOFFSETTO:+0000
TZNAME:UTC
DTSTART:20250101T000000
END:STANDARD
END:VTIMEZONE
BEGIN:VEVENT
DTSTART;VALUE=DATE:20250404
DTEND;VALUE=DATE:20250406
DTSTAMP:20260424T083928
CREATED:20240805T221727Z
LAST-MODIFIED:20240830T223310Z
UID:5782-1743724800-1743897599@debipryde.com
SUMMARY:Ladies' Retreat - Lighthouse Baptist Church\, Laverne CA (only)
DESCRIPTION:
URL:https://debipryde.com/event/ladies-retreat-lighthouse-baptist-church-only/
LOCATION:Ironwood Christian Camp\, 49191 Cherokee Rd.\, Newberry Springs\, CA\, 92365\, United States
END:VEVENT
END:VCALENDAR