BEGIN:VCALENDAR
VERSION:2.0
PRODID:-//debipryde - ECPv6.15.3//NONSGML v1.0//EN
CALSCALE:GREGORIAN
METHOD:PUBLISH
X-ORIGINAL-URL:https://debipryde.com
X-WR-CALDESC:Events for debipryde
REFRESH-INTERVAL;VALUE=DURATION:PT1H
X-Robots-Tag:noindex
X-PUBLISHED-TTL:PT1H
BEGIN:VTIMEZONE
TZID:UTC
BEGIN:STANDARD
TZOFFSETFROM:+0000
TZOFFSETTO:+0000
TZNAME:UTC
DTSTART:20250101T000000
END:STANDARD
END:VTIMEZONE
BEGIN:VEVENT
DTSTART;VALUE=DATE:20250121
DTEND;VALUE=DATE:20250124
DTSTAMP:20260424T123524
CREATED:20240217T205311Z
LAST-MODIFIED:20241002T162821Z
UID:5749-1737417600-1737676799@debipryde.com
SUMMARY:Women Counseling Women - Specifics 2
DESCRIPTION:
URL:https://debipryde.com/event/women-counseling-women-specifics-2-6/
LOCATION:Ironwood Christian Camp\, 49191 Cherokee Rd.\, Newberry Springs\, CA\, 92365\, United States
END:VEVENT
END:VCALENDAR