BEGIN:VCALENDAR
VERSION:2.0
PRODID:-//debipryde - ECPv6.15.3//NONSGML v1.0//EN
CALSCALE:GREGORIAN
METHOD:PUBLISH
X-ORIGINAL-URL:https://debipryde.com
X-WR-CALDESC:Events for debipryde
REFRESH-INTERVAL;VALUE=DURATION:PT1H
X-Robots-Tag:noindex
X-PUBLISHED-TTL:PT1H
BEGIN:VTIMEZONE
TZID:UTC
BEGIN:STANDARD
TZOFFSETFROM:+0000
TZOFFSETTO:+0000
TZNAME:UTC
DTSTART:20240101T000000
END:STANDARD
END:VTIMEZONE
BEGIN:VEVENT
DTSTART;VALUE=DATE:20241007
DTEND;VALUE=DATE:20241011
DTSTAMP:20260424T165917
CREATED:20230115T021603Z
LAST-MODIFIED:20230115T021603Z
UID:5692-1728259200-1728604799@debipryde.com
SUMMARY:Women Counseling Women - Specifics 4 (also via Zoom)
DESCRIPTION:
URL:https://debipryde.com/event/women-counseling-women-specifics-4-also-via-zoom/
LOCATION:Camp CoBeAc\, 4925 S. Reserve Rd.\, Prudenville\, MI\, 48651\, United States
END:VEVENT
END:VCALENDAR